BEGIN:VCALENDAR
VERSION:2.0
PRODID:-//Sölvesborgs Skytteförening - ECPv6.2.4//NONSGML v1.0//EN
CALSCALE:GREGORIAN
METHOD:PUBLISH
X-ORIGINAL-URL:https://sbgskytte.se
X-WR-CALDESC:Händelser för Sölvesborgs Skytteförening
REFRESH-INTERVAL;VALUE=DURATION:PT1H
X-Robots-Tag:noindex
X-PUBLISHED-TTL:PT1H
BEGIN:VTIMEZONE
TZID:Europe/Stockholm
BEGIN:DAYLIGHT
TZOFFSETFROM:+0100
TZOFFSETTO:+0200
TZNAME:CEST
DTSTART:20200329T010000
END:DAYLIGHT
BEGIN:STANDARD
TZOFFSETFROM:+0200
TZOFFSETTO:+0100
TZNAME:CET
DTSTART:20201025T010000
END:STANDARD
BEGIN:DAYLIGHT
TZOFFSETFROM:+0100
TZOFFSETTO:+0200
TZNAME:CEST
DTSTART:20210328T010000
END:DAYLIGHT
BEGIN:STANDARD
TZOFFSETFROM:+0200
TZOFFSETTO:+0100
TZNAME:CET
DTSTART:20211031T010000
END:STANDARD
BEGIN:DAYLIGHT
TZOFFSETFROM:+0100
TZOFFSETTO:+0200
TZNAME:CEST
DTSTART:20220327T010000
END:DAYLIGHT
BEGIN:STANDARD
TZOFFSETFROM:+0200
TZOFFSETTO:+0100
TZNAME:CET
DTSTART:20221030T010000
END:STANDARD
BEGIN:DAYLIGHT
TZOFFSETFROM:+0100
TZOFFSETTO:+0200
TZNAME:CEST
DTSTART:20230326T010000
END:DAYLIGHT
BEGIN:STANDARD
TZOFFSETFROM:+0200
TZOFFSETTO:+0100
TZNAME:CET
DTSTART:20231029T010000
END:STANDARD
BEGIN:DAYLIGHT
TZOFFSETFROM:+0100
TZOFFSETTO:+0200
TZNAME:CEST
DTSTART:20240331T010000
END:DAYLIGHT
BEGIN:STANDARD
TZOFFSETFROM:+0200
TZOFFSETTO:+0100
TZNAME:CET
DTSTART:20241027T010000
END:STANDARD
BEGIN:DAYLIGHT
TZOFFSETFROM:+0100
TZOFFSETTO:+0200
TZNAME:CEST
DTSTART:20250330T010000
END:DAYLIGHT
BEGIN:STANDARD
TZOFFSETFROM:+0200
TZOFFSETTO:+0100
TZNAME:CET
DTSTART:20251026T010000
END:STANDARD
END:VTIMEZONE
BEGIN:VEVENT
DTSTART;TZID=Europe/Stockholm:20250913T083000
DTEND;TZID=Europe/Stockholm:20250913T150000
DTSTAMP:20260420T081525
CREATED:20250818T125659Z
LAST-MODIFIED:20250818T125659Z
UID:859-1757752200-1757775600@sbgskytte.se
SUMMARY:Arbetsdag 13e September 08:30 Yndebanan
DESCRIPTION:Arbetsdag 13e September 08:30 Yndebanan \nUnder sommaren har riset mellan vallarna växt till oanade höjder\, vi skulle behöva ha en arbetsdag och riva ner detta annars är risken att vi snart måste sätta skjutförbud på 300-m-banan.\nDet behövs mycket röjsågsarbete. Vägen är helt överväxt. Tänker 90% röja\, 10% renovera mål. Så om vi får dit tre-fyra med röjsåg och minst lika många som kan asa ris så kommer vi långt. \nVi samlas 8.30 och självklart bjuder klubben på kaffe och lunch. \nVälkomna! \nStyrelsen\nSölvesborgs Skytteförening
URL:https://sbgskytte.se/event/arbetsdag-13e-september-0830-yndebanan/
CATEGORIES:Kalender
END:VEVENT
BEGIN:VEVENT
DTSTART;TZID=Europe/Stockholm:20250316T110000
DTEND;TZID=Europe/Stockholm:20250316T123000
DTSTAMP:20260420T081525
CREATED:20220824T184147Z
LAST-MODIFIED:20250312T121437Z
UID:517-1742122800-1742128200@sbgskytte.se
SUMMARY:INGEN Träning söndag 16e mars
DESCRIPTION:Namn(obligatoriskt)\n\n	\n\n\nE-post(obligatoriskt)\n\n	\n\n\nWebbplats\n\n	\n\n\nMeddelande\n\n	\n	\n		Skicka		\n		\n		\n	 \nΔ \n\nINGENT TRÄNING den 16e \n  \nSöndag tränar vi mellan 11 och 12.30 ca. \nMeddela gärna ordforande (at) sbgskytte.se om du kommer och vad du vill skjuta så vi är lite förberedda på vad som behövs ta fram \nAlla är välkomna\, skyttar som tävlar för annan klubb stöttar vår förening med en femtilapp. \nEventuellt kör vi även en träningstävling denna dag \n  \n  \nVälkommen!
URL:https://sbgskytte.se/event/sondagstraning-28-augusti/
CATEGORIES:Kalender
ORGANIZER;CN="S%C3%B6lvesborgs Skyttef%C3%B6rening":MAILTO:kontakt@sbgskytte.se
END:VEVENT
BEGIN:VEVENT
DTSTART;TZID=Europe/Stockholm:20250313T170000
DTEND;TZID=Europe/Stockholm:20250313T183000
DTSTAMP:20260420T081525
CREATED:20241030T121456Z
LAST-MODIFIED:20250312T121518Z
UID:753-1741885200-1741890600@sbgskytte.se
SUMMARY:Träning torsdag 13e mars p g a årsmöte
DESCRIPTION:  \nTräning som vanligt 17-18.30 \nVi belyser enkelt 22lr-banan med mål på 50-90m \n  \n 
URL:https://sbgskytte.se/event/traning-torsdag-31e/
CATEGORIES:Kalender
ORGANIZER;CN="S%C3%B6lvesborgs Skyttef%C3%B6rening":MAILTO:kontakt@sbgskytte.se
END:VEVENT
BEGIN:VEVENT
DTSTART;TZID=Europe/Stockholm:20241114T170000
DTEND;TZID=Europe/Stockholm:20241114T183000
DTSTAMP:20260420T081525
CREATED:20241022T130248Z
LAST-MODIFIED:20241109T160924Z
UID:750-1731603600-1731609000@sbgskytte.se
SUMMARY:Träning torsdag 14e november
DESCRIPTION:Välkomna på träning Torsdag den 14e. Vi börjar 17:00 och håller på till 18:30. \nLånegevär finns tillgängligt \n 
URL:https://sbgskytte.se/event/traning-torsdag-24e-oktober/
CATEGORIES:Kalender
END:VEVENT
BEGIN:VEVENT
DTSTART;TZID=Europe/Stockholm:20241110T110000
DTEND;TZID=Europe/Stockholm:20241110T123000
DTSTAMP:20260420T081525
CREATED:20241011T111350Z
LAST-MODIFIED:20241109T160819Z
UID:721-1731236400-1731241800@sbgskytte.se
SUMMARY:Träning Söndag 10/11
DESCRIPTION:Träning 11-12.30 söndag på Yndebanan
URL:https://sbgskytte.se/event/traning-sondag-13-10/
LOCATION:Yndebanan
ORGANIZER;CN="S%C3%B6lvesborgs Skyttef%C3%B6rening":MAILTO:kontakt@sbgskytte.se
END:VEVENT
BEGIN:VEVENT
DTSTART;TZID=Europe/Stockholm:20241017T170000
DTEND;TZID=Europe/Stockholm:20241017T183000
DTSTAMP:20260420T081525
CREATED:20241011T112402Z
LAST-MODIFIED:20241015T165750Z
UID:724-1729184400-1729189800@sbgskytte.se
SUMMARY:Träning Torsdag 17e
DESCRIPTION:Välkomna på träning Torsdag den 17e. Vi börjar 17:00 och håller på till 18:30. \nLånegevär finns tillgängligt.
URL:https://sbgskytte.se/event/traning-torsdag-17e/
LOCATION:Yndebanan
CATEGORIES:Kalender
ORGANIZER;CN="S%C3%B6lvesborgs Skyttef%C3%B6rening":MAILTO:kontakt@sbgskytte.se
END:VEVENT
BEGIN:VEVENT
DTSTART;TZID=Europe/Stockholm:20240929T110000
DTEND;TZID=Europe/Stockholm:20240929T130000
DTSTAMP:20260420T081525
CREATED:20230131T170803Z
LAST-MODIFIED:20240924T071109Z
UID:570-1727607600-1727614800@sbgskytte.se
SUMMARY:Ingen söndagsträning 29e september p g a arbetsdag
DESCRIPTION:Ingen träning söndag den 29e p g a arbetsdag
URL:https://sbgskytte.se/event/sondagstraning-5e-februari-11-13-ca/
END:VEVENT
BEGIN:VEVENT
DTSTART;TZID=Europe/Stockholm:20240926T173000
DTEND;TZID=Europe/Stockholm:20240926T183000
DTSTAMP:20260420T081525
CREATED:20210405T170210Z
LAST-MODIFIED:20240924T071302Z
UID:277-1727371800-1727375400@sbgskytte.se
SUMMARY:Ingen träning torsdag 26e september17.30-18.30
DESCRIPTION:Ingen träning torsdag 26e september p g a avsaknad av ledare \n  \n  \n  \n 
URL:https://sbgskytte.se/event/traning-korthall-och-300m-torsdag-29-april/
LOCATION:Yndebanan
CATEGORIES:Kalender
ORGANIZER;CN="S%C3%B6lvesborgs Skyttef%C3%B6rening":MAILTO:kontakt@sbgskytte.se
END:VEVENT
BEGIN:VEVENT
DTSTART;TZID=Europe/Stockholm:20220428T173000
DTEND;TZID=Europe/Stockholm:20220428T183000
DTSTAMP:20260420T081525
CREATED:20220427T144048Z
LAST-MODIFIED:20220428T090939Z
UID:486-1651167000-1651170600@sbgskytte.se
SUMMARY:Träning korthållshallen 28e april 17.30-18.30
DESCRIPTION:Träning med korthållsgevär på elektroniska tavlor. \nGevär finns att låna. \n25 skott kostar 25 kronor.
URL:https://sbgskytte.se/event/traning-korthallshallen/
CATEGORIES:Kalender
END:VEVENT
BEGIN:VEVENT
DTSTART;TZID=Europe/Stockholm:20210815T080000
DTEND;TZID=Europe/Stockholm:20210815T170000
DTSTAMP:20260420T081525
CREATED:20210812T093741Z
LAST-MODIFIED:20210812T093800Z
UID:354-1629014400-1629046800@sbgskytte.se
SUMMARY:Gränsskottet 15/8 hela dagen
DESCRIPTION:Söndagen den 15e håller vi vår årliga bantävling 300m tillsammans med Bromölla. \nTyvärr kan vi inte ta emot publik annat än föräldrar till deltagande juniorskyttar. \nDet kommer inte heller att gå att använda inskjutningsbanan.
URL:https://sbgskytte.se/event/gransskottet-15-8-hela-dagen/
CATEGORIES:Kalender
END:VEVENT
BEGIN:VEVENT
DTSTART;TZID=Europe/Stockholm:20210729T170000
DTEND;TZID=Europe/Stockholm:20210729T183000
DTSTAMP:20260420T081525
CREATED:20210405T165611Z
LAST-MODIFIED:20210728T145024Z
UID:275-1627578000-1627583400@sbgskytte.se
SUMMARY:Träning 300m torsdag 29 juli
DESCRIPTION:  \nTräning i 300m-hallen 17-18.30 (den övre hallen) här an du skjuta både med din korthållsbössa (dock inte på elektroniska tavlor) och med gevär 6.5 \nLånegevär finns att tillgå. Åldersgräns från ca. 9 år för krutvapen (22lr)\, föräldern får bedöma om barnet är moget). \nSkyttar som tävlar för andra föreningar är välkomna att skjuta mot en avgift på 50kr per tillfälle.
URL:https://sbgskytte.se/event/traning-korthall-och-300m-torsdag-22-april/
LOCATION:Yndebanan
CATEGORIES:Kalender
ORGANIZER;CN="S%C3%B6lvesborgs Skyttef%C3%B6rening":MAILTO:kontakt@sbgskytte.se
END:VEVENT
BEGIN:VEVENT
DTSTART;TZID=Europe/Stockholm:20210415T170000
DTEND;TZID=Europe/Stockholm:20210415T183000
DTSTAMP:20260420T081525
CREATED:20210405T165418Z
LAST-MODIFIED:20210405T165418Z
UID:273-1618506000-1618511400@sbgskytte.se
SUMMARY:Träning Korthåll och 300m torsdag 15 april
DESCRIPTION:Träning i korthållshallen 17-18 (den nedre hallen) \nTräning i 300m-hallen 17-18.30 (den övre hallen) \nLånegevär finns att tillgå. Åldersgräns från ca. 9 år för krutvapen. \nSkyttar som tävlar för andra föreningar är välkomna att skjuta mot en avgift på 50kr per tillfälle.
URL:https://sbgskytte.se/event/traning-korthall-och-300m-torsdag-15-april/
LOCATION:Yndebanan
CATEGORIES:Kalender
ORGANIZER;CN="S%C3%B6lvesborgs Skyttef%C3%B6rening":MAILTO:kontakt@sbgskytte.se
END:VEVENT
BEGIN:VEVENT
DTSTART;TZID=Europe/Stockholm:20201115T093000
DTEND;TZID=Europe/Stockholm:20201115T130000
DTSTAMP:20260420T081525
CREATED:20201026T103511Z
LAST-MODIFIED:20201026T103511Z
UID:229-1605432600-1605445200@sbgskytte.se
SUMMARY:Öppen träning Yndebanan PRS 300m och korthåll
DESCRIPTION:Pris 150kr\, lunch ingår \nPlåt och akustiska tavlor på 300m \nPlåt och gummimål på 50-90m för korthållsgevär \n  \nKänner du att du behöver träna inför Ravlunda Långhåll? \nSka du inte till Ravlunda men vill träna åndå? \nVill du testa på att skjuta med lite mer utmanande skjutställningar? \nDå finns det möjlighet att komma och skjuta\, utbyta erfarenheter och äta grillkorv den 18e november på Yndebanan i Sölvesborg. Blir vi fler än 6 deltagare kör vi\, annars tar vi det en annan gång. Maxantal deltagare 12 skyttar. \nVi erbjuder följande mål och avstånd: \nSkytte på 300m på plåt och akustiska tavlor. Vanliga skyttekalibrar tillåtna\, inga magnumkalibrar. \nSkytte på 50-90m på plåt och gummimål. 22lr och 17hmr tillåtet. \nVi erbjuder följande skjuthinder: \nDäck\, vägkon\, stridsvagnshinder\, målarbock\, barrikader i olika höjder och med olika stöd och sluttningar. Kanske även en cykel. \nDu kan alltså träna med antingen din 22a eller långhållsbössan. \n  \nFritt kaffe\, enklare servering av delicatokakor och såklart grillar vi lite korv och snackar skit när vi är klara. \nMer detaljerade säkerhetsinstruktioner kommer efter anmälan. \nAnmälan och frågor till hnyberg@kikarskyttsyd.se \n 
URL:https://sbgskytte.se/event/oppen-traning-yndebanan-prs-300m-och-korthall/
LOCATION:Yndebanan
CATEGORIES:Kalender
ORGANIZER;CN="S%C3%B6lvesborgs Skyttef%C3%B6rening":MAILTO:kontakt@sbgskytte.se
END:VEVENT
BEGIN:VEVENT
DTSTART;TZID=Europe/Stockholm:20201015T173000
DTEND;TZID=Europe/Stockholm:20201015T183000
DTSTAMP:20260420T081525
CREATED:20200420T120814Z
LAST-MODIFIED:20201015T130341Z
UID:87-1602783000-1602786600@sbgskytte.se
SUMMARY:Träning 300m banskytte 17.30-18.30
DESCRIPTION:Välkommen till träning på vår 300m-bana med elektroniska Megalinktavlor. Du behöver inte vara medlem i klubben för att träna hos oss. \nDu kan träna klassiskt sportskytte eller kikarskytte. Vill du träna mer avancerat skytte har vi färdigbyggda barrikader du kan använda och vi har även kronograf tillgänglig på de flesta träningar. \nHar du frågor eller om det är första gången så hör gärna av dig på kontakt(at)sbgskytte.se \nTräningen avslutas senast 19.00. \nAlla är välkomna med sina egna vapen (vi har även klubbvapen) med maxkaliber enligt vanliga reglerna för fältskytte\, dvs\, 6.5×55\, .308. \nOBS! Vi ser gärna att du använder ljuddämpare! \n  \nAktiva medlemmar som tävlar för Sölvesborgs Skytteförening tränar gratis\, kikarskytte/prs 60kr\, 50kr för liggande-/diopterskyttar
URL:https://sbgskytte.se/event/traning-300m-banskytte-3/
LOCATION:Yndebanan
CATEGORIES:Kalender
ORGANIZER;CN="S%C3%B6lvesborgs Skyttef%C3%B6rening":MAILTO:kontakt@sbgskytte.se
END:VEVENT
BEGIN:VEVENT
DTSTART;TZID=Europe/Stockholm:20201008T173000
DTEND;TZID=Europe/Stockholm:20201008T190000
DTSTAMP:20260420T081525
CREATED:20200414T122604Z
LAST-MODIFIED:20200916T184206Z
UID:62-1602178200-1602183600@sbgskytte.se
SUMMARY:Träning 300m banskytte
DESCRIPTION:Välkommen till träning på vår 300m-bana med elektroniska Megalinktavlor. Du behöver inte vara medlem i klubben för att träna hos oss. \nDu kan träna klassiskt sportskytte eller kikarskytte. Vill du träna mer avancerat skytte har vi färdigbyggda barrikader du kan använda och vi har även kronograf tillgänglig på de flesta träningar. \nHar du frågor eller om det är första gången så hör gärna av dig på kontakt(at)sbgskytte.se \nTräningen avslutas senast 19.00. \nAlla är välkomna med sina egna vapen (vi har även klubbvapen) med maxkaliber enligt vanliga reglerna för fältskytte\, dvs\, 6.5×55\, .308. \nAktiva medlemmar som tävlar för Sölvesborgs Skytteförening tränar gratis\, kikarskytte/prs 60kr\, 50kr för liggande-/diopterskyttar \n 
URL:https://sbgskytte.se/event/traning-300m-banskytte/
LOCATION:Yndebanan
CATEGORIES:Kalender
ORGANIZER;CN="S%C3%B6lvesborgs Skyttef%C3%B6rening":MAILTO:kontakt@sbgskytte.se
END:VEVENT
BEGIN:VEVENT
DTSTART;TZID=Europe/Stockholm:20201001T173000
DTEND;TZID=Europe/Stockholm:20201001T190000
DTSTAMP:20260420T081525
CREATED:20200414T123237Z
LAST-MODIFIED:20200916T184131Z
UID:67-1601573400-1601578800@sbgskytte.se
SUMMARY:Träning 300m Banskytte
DESCRIPTION:Du kan träna klassiskt sportskytte eller kikarskytte. Vill du träna mer avancerat skytte har vi färdigbyggda barrikader du kan använda och vi har även kronograf tillgänglig på de flesta träningar. \nHar du frågor eller om det är första gången så hör gärna av dig på kontakt(at)sbgskytte.se \nTräningen avslutas senast 19.00. \nAlla är välkomna med sina egna vapen (vi har även klubbvapen) med maxkaliber enligt vanliga reglerna för fältskytte\, dvs\, 6.5×55\, .308. \nOBS! Vi ser gärna att du använder ljuddämpare! \n  \nAktiva medlemmar som tävlar för Sölvesborgs Skytteförening tränar gratis\, kikarskytte/prs 60kr\, 50kr för liggande-/diopterskyttar
URL:https://sbgskytte.se/event/traning-300m-banskytte-2/
LOCATION:Yndebanan
CATEGORIES:Kalender
ORGANIZER;CN="S%C3%B6lvesborgs Skyttef%C3%B6rening":MAILTO:kontakt@sbgskytte.se
END:VEVENT
BEGIN:VEVENT
DTSTART;TZID=Europe/Stockholm:20200922T173000
DTEND;TZID=Europe/Stockholm:20200922T190000
DTSTAMP:20260420T081525
CREATED:20200525T113058Z
LAST-MODIFIED:20200921T081530Z
UID:122-1600795800-1600801200@sbgskytte.se
SUMMARY:EXTRA Träning 300m banskytte
DESCRIPTION:Välkommen till träning på vår 300m-bana med elektroniska Megalinktavlor. Du behöver inte vara medlem i klubben för att träna hos oss. \nDu kan träna klassiskt sportskytte eller kikarskytte. Vill du träna mer avancerat skytte har vi färdigbyggda barrikader du kan använda och vi har även kronograf tillgänglig på de flesta träningar. \nHar du frågor eller om det är första gången så hör gärna av dig på kontakt(at)sbgskytte.se \nTräningen avslutas senast 19.00. \nAlla är välkomna med sina egna vapen (vi har även klubbvapen) med maxkaliber enligt vanliga reglerna för fältskytte\, dvs\, 6.5×55\, .308. \nOBS! Vi ser gärna att du använder ljuddämpare! \n  \nAktiva medlemmar som tävlar för Sölvesborgs Skytteförening tränar gratis\, kikarskytte/prs 60kr\, 50kr för liggande-/diopterskyttar
URL:https://sbgskytte.se/event/traning-300m-banskytte-4/
CATEGORIES:Kalender
END:VEVENT
BEGIN:VEVENT
DTSTART;TZID=Europe/Stockholm:20200922T173000
DTEND;TZID=Europe/Stockholm:20200922T190000
DTSTAMP:20260420T081525
CREATED:20200513T085225Z
LAST-MODIFIED:20200916T184028Z
UID:114-1600795800-1600801200@sbgskytte.se
SUMMARY:EXTRA-Träning 300m banskytte 17.30-19.00
DESCRIPTION:Välkommen till träning på vår 300m-bana med elektroniska Megalinktavlor. Du behöver inte vara medlem i klubben för att träna hos oss. \nDu kan träna klassiskt sportskytte eller kikarskytte. Vill du träna mer avancerat skytte har vi färdigbyggda barrikader du kan använda och vi har även kronograf tillgänglig på de flesta träningar. \nHar du frågor eller om det är första gången så hör gärna av dig på kontakt(at)sbgskytte.se \nTräningen avslutas senast 19.00. \nAlla är välkomna med sina egna vapen (vi har inga klubbvapen) med maxkaliber enligt vanliga reglerna för fältskytte\, dvs\, 6.5×55\, .308. \nOBS! Vi ser gärna att du använder ljuddämpare! \n  \nAktiva medlemmar som tävlar för Sölvesborgs Skytteförening tränar gratis\, kikarskytte/prs 60kr\, 50kr för liggande-/diopterskyttar
URL:https://sbgskytte.se/event/traning-300m-banskytte-17-30-19-00/
LOCATION:Yndebanan
CATEGORIES:Kalender
ORGANIZER;CN="S%C3%B6lvesborgs Skyttef%C3%B6rening":MAILTO:kontakt@sbgskytte.se
END:VEVENT
BEGIN:VEVENT
DTSTART;TZID=Europe/Stockholm:20200917T173000
DTEND;TZID=Europe/Stockholm:20200917T190000
DTSTAMP:20260420T081525
CREATED:20200513T085433Z
LAST-MODIFIED:20200916T183907Z
UID:116-1600363800-1600369200@sbgskytte.se
SUMMARY:Träning 300m banskytte 17.30-19.00
DESCRIPTION:Välkommen till träning på vår 300m-bana med elektroniska Megalinktavlor. Du behöver inte vara medlem i klubben för att träna hos oss. \nDu kan träna klassiskt sportskytte eller kikarskytte. Vill du träna mer avancerat skytte har vi färdigbyggda barrikader du kan använda och vi har även kronograf tillgänglig på de flesta träningar. \nHar du frågor eller om det är första gången så hör gärna av dig på kontakt(at)sbgskytte.se \nTräningen avslutas senast 19.00. \nAlla är välkomna med sina egna vapen (vi har även klubbvapen) med maxkaliber enligt vanliga reglerna för fältskytte\, dvs\, 6.5×55\, .308. \nOBS! Vi ser gärna att du använder ljuddämpare! \n  \nAktiva medlemmar som tävlar för Sölvesborgs Skytteförening tränar gratis\, kikarskytte/prs 60kr\, 50kr för liggande-/diopterskyttar
URL:https://sbgskytte.se/event/traning-300m-banskytte-17-30-19-00-2/
LOCATION:Yndebanan
CATEGORIES:Kalender
ORGANIZER;CN="S%C3%B6lvesborgs Skyttef%C3%B6rening":MAILTO:kontakt@sbgskytte.se
END:VEVENT
BEGIN:VEVENT
DTSTART;TZID=Europe/Stockholm:20200910T173000
DTEND;TZID=Europe/Stockholm:20200910T190000
DTSTAMP:20260420T081525
CREATED:20200818T091641Z
LAST-MODIFIED:20200818T091641Z
UID:178-1599759000-1599764400@sbgskytte.se
SUMMARY:Träning på 300m-banan 17.30-19.00
DESCRIPTION:Träning på 300m-banan 17.30-19.00
URL:https://sbgskytte.se/event/traning-pa-300m-banan-17-30-19-00-3/
LOCATION:Yndebanan
CATEGORIES:Kalender
ORGANIZER;CN="S%C3%B6lvesborgs Skyttef%C3%B6rening":MAILTO:kontakt@sbgskytte.se
END:VEVENT
BEGIN:VEVENT
DTSTART;TZID=Europe/Stockholm:20200903T173000
DTEND;TZID=Europe/Stockholm:20200903T190000
DTSTAMP:20260420T081525
CREATED:20200818T091538Z
LAST-MODIFIED:20200818T091538Z
UID:176-1599154200-1599159600@sbgskytte.se
SUMMARY:Träning på 300m-banan 17.30-19.00
DESCRIPTION:Träning på 300m-banan 17.30-19.00
URL:https://sbgskytte.se/event/traning-pa-300m-banan-17-30-19-00-2/
LOCATION:Yndebanan
CATEGORIES:Kalender
ORGANIZER;CN="S%C3%B6lvesborgs Skyttef%C3%B6rening":MAILTO:kontakt@sbgskytte.se
END:VEVENT
BEGIN:VEVENT
DTSTART;TZID=Europe/Stockholm:20200827T173000
DTEND;TZID=Europe/Stockholm:20200827T190000
DTSTAMP:20260420T081525
CREATED:20200818T091436Z
LAST-MODIFIED:20200818T091436Z
UID:174-1598549400-1598554800@sbgskytte.se
SUMMARY:Träning på 300m-banan 17.30-19.00
DESCRIPTION:Träning på 300m-banan 17.30-19.00
URL:https://sbgskytte.se/event/traning-pa-300m-banan-17-30-19-00/
LOCATION:Yndebanan
CATEGORIES:Kalender
ORGANIZER;CN="S%C3%B6lvesborgs Skyttef%C3%B6rening":MAILTO:kontakt@sbgskytte.se
END:VEVENT
BEGIN:VEVENT
DTSTART;TZID=Europe/Stockholm:20200820T173000
DTEND;TZID=Europe/Stockholm:20200820T190000
DTSTAMP:20260420T081525
CREATED:20200818T091333Z
LAST-MODIFIED:20200818T091334Z
UID:172-1597944600-1597950000@sbgskytte.se
SUMMARY:Träning på 300m-banan
DESCRIPTION:Träning på 300m-banan
URL:https://sbgskytte.se/event/traning-pa-300m-banan/
LOCATION:Yndebanan
CATEGORIES:Kalender
ORGANIZER;CN="S%C3%B6lvesborgs Skyttef%C3%B6rening":MAILTO:kontakt@sbgskytte.se
END:VEVENT
BEGIN:VEVENT
DTSTART;TZID=Europe/Stockholm:20200625T173000
DTEND;TZID=Europe/Stockholm:20200625T190000
DTSTAMP:20260420T081525
CREATED:20200615T093816Z
LAST-MODIFIED:20200624T192837Z
UID:145-1593106200-1593111600@sbgskytte.se
SUMMARY:OBS! INSTÄLLD TRÄNING
DESCRIPTION:Torsdagens träning inställd p g a banarbete
URL:https://sbgskytte.se/event/traning-300m-17-30-19-00-2/
LOCATION:Yndebanan
CATEGORIES:Kalender
ORGANIZER;CN="S%C3%B6lvesborgs Skyttef%C3%B6rening":MAILTO:kontakt@sbgskytte.se
END:VEVENT
BEGIN:VEVENT
DTSTART;TZID=Europe/Stockholm:20200624T170000
DTEND;TZID=Europe/Stockholm:20200624T180000
DTSTAMP:20260420T081525
CREATED:20200615T093641Z
LAST-MODIFIED:20200615T093641Z
UID:143-1593018000-1593021600@sbgskytte.se
SUMMARY:Träning korthåll 17-18
DESCRIPTION:Träning i korthållshallen på Yndebanan \nTider 17.00-18.00 \nGevär\, hörselskydd och annan utrustning finns att låna.
URL:https://sbgskytte.se/event/traning-korthall-17-18-3/
LOCATION:Yndebanan
CATEGORIES:Kalender
ORGANIZER;CN="S%C3%B6lvesborgs Skyttef%C3%B6rening":MAILTO:kontakt@sbgskytte.se
END:VEVENT
BEGIN:VEVENT
DTSTART;TZID=Europe/Stockholm:20200617T170000
DTEND;TZID=Europe/Stockholm:20200617T180000
DTSTAMP:20260420T081525
CREATED:20200615T093207Z
LAST-MODIFIED:20200615T093207Z
UID:139-1592413200-1592416800@sbgskytte.se
SUMMARY:Träning korthåll 17-18
DESCRIPTION:Träning i korthållshallen på Yndebanan \nTider 17.00-18.00 \nGevär\, hörselskydd och annan utrustning finns att låna.
URL:https://sbgskytte.se/event/traning-korthall-17-18-2/
CATEGORIES:Kalender
ORGANIZER;CN="S%C3%B6lvesborgs Skyttef%C3%B6rening":MAILTO:kontakt@sbgskytte.se
END:VEVENT
BEGIN:VEVENT
DTSTART;TZID=Europe/Stockholm:20200616T173000
DTEND;TZID=Europe/Stockholm:20200616T190000
DTSTAMP:20260420T081525
CREATED:20200615T093516Z
LAST-MODIFIED:20200615T093516Z
UID:141-1592328600-1592334000@sbgskytte.se
SUMMARY:Träning 300m 17.30-19.00
DESCRIPTION:Välkommen till träning på vår 300m-bana med elektroniska Megalinktavlor. Du behöver inte vara medlem i klubben för att träna hos oss. \nDu kan träna klassiskt sportskytte eller kikarskytte. Vill du träna mer avancerat skytte har vi färdigbyggda barrikader du kan använda och vi har även kronograf tillgänglig på de flesta träningar. \nHar du frågor eller om det är första gången så hör gärna av dig på kontakt(at)sbgskytte.se \nTräningen avslutas senast 19.00. \nAlla är välkomna med sina egna vapen (vi har inga klubbvapen) med maxkaliber enligt vanliga reglerna för fältskytte\, dvs\, 6.5×55\, .308. \nOBS! Vi ser gärna att du använder ljuddämpare! \n  \nAktiva medlemmar som tävlar för Sölvesborgs Skytteförening tränar gratis\, kikarskytte/prs 60kr\, 50kr för liggande-/diopterskyttar
URL:https://sbgskytte.se/event/traning-300m-17-30-19-00/
LOCATION:Yndebanan
CATEGORIES:Kalender
ORGANIZER;CN="S%C3%B6lvesborgs Skyttef%C3%B6rening":MAILTO:kontakt@sbgskytte.se
END:VEVENT
BEGIN:VEVENT
DTSTART;TZID=Europe/Stockholm:20200603T170000
DTEND;TZID=Europe/Stockholm:20200603T180000
DTSTAMP:20260420T081525
CREATED:20200525T113251Z
LAST-MODIFIED:20200525T113830Z
UID:125-1591203600-1591207200@sbgskytte.se
SUMMARY:Träning korthåll 17-18
DESCRIPTION:Träning i korthållshallen på Yndebanan \nTider 17.00-18.00 \nGevär\, hörselskydd och annan utrustning finns att låna.
URL:https://sbgskytte.se/event/traning-korthall-17-18/
CATEGORIES:Kalender
END:VEVENT
BEGIN:VEVENT
DTSTART;TZID=Europe/Stockholm:20200527T170000
DTEND;TZID=Europe/Stockholm:20200527T180000
DTSTAMP:20260420T081525
CREATED:20200513T084701Z
LAST-MODIFIED:20200513T084701Z
UID:111-1590598800-1590602400@sbgskytte.se
SUMMARY:Träning korthåll 17.00-18.00
DESCRIPTION:Träning i korthållshallen på Yndebanan \nTider 17.00-18.00 \nGevär\, hörselskydd och annan utrustning finns att låna.
URL:https://sbgskytte.se/event/traning-korthall-17-00-18-00-3/
LOCATION:Yndebanan
CATEGORIES:Kalender
ORGANIZER;CN="S%C3%B6lvesborgs Skyttef%C3%B6rening":MAILTO:kontakt@sbgskytte.se
END:VEVENT
BEGIN:VEVENT
DTSTART;TZID=Europe/Stockholm:20200520T170000
DTEND;TZID=Europe/Stockholm:20200520T180000
DTSTAMP:20260420T081525
CREATED:20200513T084501Z
LAST-MODIFIED:20200513T084501Z
UID:109-1589994000-1589997600@sbgskytte.se
SUMMARY:Träning korthåll 17.00-18-00
DESCRIPTION:Träning i korthållshallen på Yndebanan \nTider 17.00-18.00 \nGevär\, hörselskydd och annan utrustning finns att låna.
URL:https://sbgskytte.se/event/traning-korthall-17-00-18-00-2/
LOCATION:Yndebanan
CATEGORIES:Kalender
ORGANIZER;CN="S%C3%B6lvesborgs Skyttef%C3%B6rening":MAILTO:kontakt@sbgskytte.se
END:VEVENT
END:VCALENDAR