BEGIN:VCALENDAR
VERSION:2.0
PRODID:-//Sölvesborgs Skytteförening - ECPv6.2.4//NONSGML v1.0//EN
CALSCALE:GREGORIAN
METHOD:PUBLISH
X-ORIGINAL-URL:https://sbgskytte.se
X-WR-CALDESC:Händelser för Sölvesborgs Skytteförening
REFRESH-INTERVAL;VALUE=DURATION:PT1H
X-Robots-Tag:noindex
X-PUBLISHED-TTL:PT1H
BEGIN:VTIMEZONE
TZID:Europe/Stockholm
BEGIN:DAYLIGHT
TZOFFSETFROM:+0100
TZOFFSETTO:+0200
TZNAME:CEST
DTSTART:20200329T010000
END:DAYLIGHT
BEGIN:STANDARD
TZOFFSETFROM:+0200
TZOFFSETTO:+0100
TZNAME:CET
DTSTART:20201025T010000
END:STANDARD
END:VTIMEZONE
BEGIN:VEVENT
DTSTART;TZID=Europe/Stockholm:20200624T170000
DTEND;TZID=Europe/Stockholm:20200624T180000
DTSTAMP:20260420T114715
CREATED:20200615T093641Z
LAST-MODIFIED:20200615T093641Z
UID:143-1593018000-1593021600@sbgskytte.se
SUMMARY:Träning korthåll 17-18
DESCRIPTION:Träning i korthållshallen på Yndebanan \nTider 17.00-18.00 \nGevär\, hörselskydd och annan utrustning finns att låna.
URL:https://sbgskytte.se/event/traning-korthall-17-18-3/
LOCATION:Yndebanan
CATEGORIES:Kalender
ORGANIZER;CN="S%C3%B6lvesborgs Skyttef%C3%B6rening":MAILTO:kontakt@sbgskytte.se
END:VEVENT
BEGIN:VEVENT
DTSTART;TZID=Europe/Stockholm:20200617T170000
DTEND;TZID=Europe/Stockholm:20200617T180000
DTSTAMP:20260420T114715
CREATED:20200615T093207Z
LAST-MODIFIED:20200615T093207Z
UID:139-1592413200-1592416800@sbgskytte.se
SUMMARY:Träning korthåll 17-18
DESCRIPTION:Träning i korthållshallen på Yndebanan \nTider 17.00-18.00 \nGevär\, hörselskydd och annan utrustning finns att låna.
URL:https://sbgskytte.se/event/traning-korthall-17-18-2/
CATEGORIES:Kalender
ORGANIZER;CN="S%C3%B6lvesborgs Skyttef%C3%B6rening":MAILTO:kontakt@sbgskytte.se
END:VEVENT
BEGIN:VEVENT
DTSTART;TZID=Europe/Stockholm:20200616T173000
DTEND;TZID=Europe/Stockholm:20200616T190000
DTSTAMP:20260420T114715
CREATED:20200615T093516Z
LAST-MODIFIED:20200615T093516Z
UID:141-1592328600-1592334000@sbgskytte.se
SUMMARY:Träning 300m 17.30-19.00
DESCRIPTION:Välkommen till träning på vår 300m-bana med elektroniska Megalinktavlor. Du behöver inte vara medlem i klubben för att träna hos oss. \nDu kan träna klassiskt sportskytte eller kikarskytte. Vill du träna mer avancerat skytte har vi färdigbyggda barrikader du kan använda och vi har även kronograf tillgänglig på de flesta träningar. \nHar du frågor eller om det är första gången så hör gärna av dig på kontakt(at)sbgskytte.se \nTräningen avslutas senast 19.00. \nAlla är välkomna med sina egna vapen (vi har inga klubbvapen) med maxkaliber enligt vanliga reglerna för fältskytte\, dvs\, 6.5×55\, .308. \nOBS! Vi ser gärna att du använder ljuddämpare! \n  \nAktiva medlemmar som tävlar för Sölvesborgs Skytteförening tränar gratis\, kikarskytte/prs 60kr\, 50kr för liggande-/diopterskyttar
URL:https://sbgskytte.se/event/traning-300m-17-30-19-00/
LOCATION:Yndebanan
CATEGORIES:Kalender
ORGANIZER;CN="S%C3%B6lvesborgs Skyttef%C3%B6rening":MAILTO:kontakt@sbgskytte.se
END:VEVENT
BEGIN:VEVENT
DTSTART;TZID=Europe/Stockholm:20200603T170000
DTEND;TZID=Europe/Stockholm:20200603T180000
DTSTAMP:20260420T114715
CREATED:20200525T113251Z
LAST-MODIFIED:20200525T113830Z
UID:125-1591203600-1591207200@sbgskytte.se
SUMMARY:Träning korthåll 17-18
DESCRIPTION:Träning i korthållshallen på Yndebanan \nTider 17.00-18.00 \nGevär\, hörselskydd och annan utrustning finns att låna.
URL:https://sbgskytte.se/event/traning-korthall-17-18/
CATEGORIES:Kalender
END:VEVENT
BEGIN:VEVENT
DTSTART;TZID=Europe/Stockholm:20200527T170000
DTEND;TZID=Europe/Stockholm:20200527T180000
DTSTAMP:20260420T114715
CREATED:20200513T084701Z
LAST-MODIFIED:20200513T084701Z
UID:111-1590598800-1590602400@sbgskytte.se
SUMMARY:Träning korthåll 17.00-18.00
DESCRIPTION:Träning i korthållshallen på Yndebanan \nTider 17.00-18.00 \nGevär\, hörselskydd och annan utrustning finns att låna.
URL:https://sbgskytte.se/event/traning-korthall-17-00-18-00-3/
LOCATION:Yndebanan
CATEGORIES:Kalender
ORGANIZER;CN="S%C3%B6lvesborgs Skyttef%C3%B6rening":MAILTO:kontakt@sbgskytte.se
END:VEVENT
BEGIN:VEVENT
DTSTART;TZID=Europe/Stockholm:20200520T170000
DTEND;TZID=Europe/Stockholm:20200520T180000
DTSTAMP:20260420T114715
CREATED:20200513T084501Z
LAST-MODIFIED:20200513T084501Z
UID:109-1589994000-1589997600@sbgskytte.se
SUMMARY:Träning korthåll 17.00-18-00
DESCRIPTION:Träning i korthållshallen på Yndebanan \nTider 17.00-18.00 \nGevär\, hörselskydd och annan utrustning finns att låna.
URL:https://sbgskytte.se/event/traning-korthall-17-00-18-00-2/
LOCATION:Yndebanan
CATEGORIES:Kalender
ORGANIZER;CN="S%C3%B6lvesborgs Skyttef%C3%B6rening":MAILTO:kontakt@sbgskytte.se
END:VEVENT
BEGIN:VEVENT
DTSTART;TZID=Europe/Stockholm:20200513T170000
DTEND;TZID=Europe/Stockholm:20200513T180000
DTSTAMP:20260420T114715
CREATED:20200513T084348Z
LAST-MODIFIED:20200513T084348Z
UID:107-1589389200-1589392800@sbgskytte.se
SUMMARY:Träning korthåll 17.00-18.00
DESCRIPTION:Träning i korthållshallen på Yndebanan \nTider 17.00-18.00 \nGevär\, hörselskydd och annan utrustning finns att låna. \n 
URL:https://sbgskytte.se/event/traning-korthall-17-00-18-00/
LOCATION:Yndebanan
CATEGORIES:Kalender
ORGANIZER;CN="S%C3%B6lvesborgs Skyttef%C3%B6rening":MAILTO:kontakt@sbgskytte.se
END:VEVENT
END:VCALENDAR